BEGIN:VCALENDAR
VERSION:2.0
PRODID:-// - ECPv4.2.5//NONSGML v1.0//EN
CALSCALE:GREGORIAN
METHOD:PUBLISH
X-WR-CALNAME:
X-ORIGINAL-URL:https://www.holyhillsnetwork.org
X-WR-CALDESC:Events for 
BEGIN:VEVENT
DTSTART;VALUE=DATE:20150605
DTEND;VALUE=DATE:20150605
DTSTAMP:20260425T030714
CREATED:20150408
LAST-MODIFIED:20160529
UID:163-1433462400-1433548799@www.holyhillsnetwork.org
SUMMARY:Fasting
DESCRIPTION:
URL:https://www.holyhillsnetwork.org/event/fasting/
LOCATION:6760 Tussing Road\, Reynoldsburg\, OH\, 43068\, United States
CATEGORIES:Six Day Prayers and Fasting
END:VEVENT
END:VCALENDAR